BEGIN:VCALENDAR
VERSION:2.0
PRODID:-//Hope Grows - ECPv6.15.20//NONSGML v1.0//EN
CALSCALE:GREGORIAN
METHOD:PUBLISH
X-WR-CALNAME:Hope Grows
X-ORIGINAL-URL:https://hopegrows.org
X-WR-CALDESC:Events for Hope Grows
REFRESH-INTERVAL;VALUE=DURATION:PT1H
X-Robots-Tag:noindex
X-PUBLISHED-TTL:PT1H
BEGIN:VTIMEZONE
TZID:America/New_York
BEGIN:DAYLIGHT
TZOFFSETFROM:-0500
TZOFFSETTO:-0400
TZNAME:EDT
DTSTART:20250309T070000
END:DAYLIGHT
BEGIN:STANDARD
TZOFFSETFROM:-0400
TZOFFSETTO:-0500
TZNAME:EST
DTSTART:20251102T060000
END:STANDARD
BEGIN:DAYLIGHT
TZOFFSETFROM:-0500
TZOFFSETTO:-0400
TZNAME:EDT
DTSTART:20260308T070000
END:DAYLIGHT
BEGIN:STANDARD
TZOFFSETFROM:-0400
TZOFFSETTO:-0500
TZNAME:EST
DTSTART:20261101T060000
END:STANDARD
BEGIN:DAYLIGHT
TZOFFSETFROM:-0500
TZOFFSETTO:-0400
TZNAME:EDT
DTSTART:20270314T070000
END:DAYLIGHT
BEGIN:STANDARD
TZOFFSETFROM:-0400
TZOFFSETTO:-0500
TZNAME:EST
DTSTART:20271107T060000
END:STANDARD
END:VTIMEZONE
BEGIN:VEVENT
DTSTART;TZID=America/New_York:20260721T080000
DTEND;TZID=America/New_York:20260723T170000
DTSTAMP:20260421T085635
CREATED:20260331T182810Z
LAST-MODIFIED:20260402T062604Z
UID:10001214-1784620800-1784826000@hopegrows.org
SUMMARY:In2Nature Camp
DESCRIPTION:Day 1:  Facilitated by L.L. Bean Outdoor Discovery Programs\nExplore the Hope Grows’ trails and property with your “journey stick” and collect nature items that resonate with you.\n\nHave fun with a “Backpacking Essentials” mine-field game!\nPractice shelter building by making a tent\, lean-to\, or using a tarp.\nTry your hand at basic knot tying skills.\n\n  \nDay 2:  Facilitated by Hope Grows\nGet up close and personal with bees in our observation hive and make beeswax candles.\n\nObserve pollinator habitats\, plant-pollinator relationships\, and interdependencies within the web of life.\nEnjoy nature journaling and sketching of the natural world around you.\nMake S’mores Kits to enjoy during fire-building skills.\n\n  \nDay 3:  Facilitated by L.L. Bean Outdoor Discovery Programs\nLearn how to use a compass and compete in a Compass Skills Relay.\n\nMake your own nature weaving creation using natural items gathered on a hike.\nTune in to the sights and sounds of the natural world with sit-spot.\nBuild a fire (and eat S’mores!).\nLearn how different animals communicate in nature playing “Echolocation Tag!”\n\n  \nClick Here to Learn More & Register
URL:https://hopegrows.org/event/in2nature-camp/
CATEGORIES:Educational Events,Kids Camps
ATTACH;FMTTYPE=image/png:https://hopegrows.org/wp-content/uploads/2026/03/In2Nature-Camp.png
END:VEVENT
END:VCALENDAR